BEGIN:VCALENDAR
VERSION:2.0
PRODID:-//Cornerstone Christian Center - ECPv6.15.17.1//NONSGML v1.0//EN
CALSCALE:GREGORIAN
METHOD:PUBLISH
X-WR-CALNAME:Cornerstone Christian Center
X-ORIGINAL-URL:https://icornerstone.org
X-WR-CALDESC:Events for Cornerstone Christian Center
REFRESH-INTERVAL;VALUE=DURATION:PT1H
X-Robots-Tag:noindex
X-PUBLISHED-TTL:PT1H
BEGIN:VTIMEZONE
TZID:UTC
BEGIN:STANDARD
TZOFFSETFROM:+0000
TZOFFSETTO:+0000
TZNAME:UTC
DTSTART:20220101T000000
END:STANDARD
END:VTIMEZONE
BEGIN:VTIMEZONE
TZID:America/New_York
BEGIN:DAYLIGHT
TZOFFSETFROM:-0500
TZOFFSETTO:-0400
TZNAME:EDT
DTSTART:20230312T070000
END:DAYLIGHT
BEGIN:STANDARD
TZOFFSETFROM:-0400
TZOFFSETTO:-0500
TZNAME:EST
DTSTART:20231105T060000
END:STANDARD
BEGIN:DAYLIGHT
TZOFFSETFROM:-0500
TZOFFSETTO:-0400
TZNAME:EDT
DTSTART:20240310T070000
END:DAYLIGHT
BEGIN:STANDARD
TZOFFSETFROM:-0400
TZOFFSETTO:-0500
TZNAME:EST
DTSTART:20241103T060000
END:STANDARD
BEGIN:DAYLIGHT
TZOFFSETFROM:-0500
TZOFFSETTO:-0400
TZNAME:EDT
DTSTART:20250309T070000
END:DAYLIGHT
BEGIN:STANDARD
TZOFFSETFROM:-0400
TZOFFSETTO:-0500
TZNAME:EST
DTSTART:20251102T060000
END:STANDARD
END:VTIMEZONE
BEGIN:VTIMEZONE
TZID:America/New_York
BEGIN:DAYLIGHT
TZOFFSETFROM:-0500
TZOFFSETTO:-0400
TZNAME:EDT
DTSTART:20230312T070000
END:DAYLIGHT
BEGIN:STANDARD
TZOFFSETFROM:-0400
TZOFFSETTO:-0500
TZNAME:EST
DTSTART:20231105T060000
END:STANDARD
BEGIN:DAYLIGHT
TZOFFSETFROM:-0500
TZOFFSETTO:-0400
TZNAME:EDT
DTSTART:20240310T070000
END:DAYLIGHT
BEGIN:STANDARD
TZOFFSETFROM:-0400
TZOFFSETTO:-0500
TZNAME:EST
DTSTART:20241103T060000
END:STANDARD
BEGIN:DAYLIGHT
TZOFFSETFROM:-0500
TZOFFSETTO:-0400
TZNAME:EDT
DTSTART:20250309T070000
END:DAYLIGHT
BEGIN:STANDARD
TZOFFSETFROM:-0400
TZOFFSETTO:-0500
TZNAME:EST
DTSTART:20251102T060000
END:STANDARD
END:VTIMEZONE
BEGIN:VEVENT
DTSTART;TZID=UTC:20241009T190000
DTEND;TZID=UTC:20241009T190000
DTSTAMP:20260424T120020
CREATED:20171011T232700Z
LAST-MODIFIED:20171011T232700Z
UID:3085-1728500400-1728500400@icornerstone.org
SUMMARY:Impact Night
DESCRIPTION:
URL:https://icornerstone.org/event/impact-night-2024-10-09/
LOCATION:Cornerstone Christian Center\, East Location\, 450 S. State Road 7\, Hollywood\, FL\, 33023\, United States
END:VEVENT
BEGIN:VEVENT
DTSTART;TZID=UTC:20241002T190000
DTEND;TZID=UTC:20241002T190000
DTSTAMP:20260424T120020
CREATED:20171011T232700Z
LAST-MODIFIED:20171011T232700Z
UID:3084-1727895600-1727895600@icornerstone.org
SUMMARY:Impact Night
DESCRIPTION:
URL:https://icornerstone.org/event/impact-night-2024-10-02/
LOCATION:Cornerstone Christian Center\, East Location\, 450 S. State Road 7\, Hollywood\, FL\, 33023\, United States
END:VEVENT
BEGIN:VEVENT
DTSTART;TZID=UTC:20240925T190000
DTEND;TZID=UTC:20240925T190000
DTSTAMP:20260424T120020
CREATED:20171011T232700Z
LAST-MODIFIED:20171011T232700Z
UID:3083-1727290800-1727290800@icornerstone.org
SUMMARY:Impact Night
DESCRIPTION:
URL:https://icornerstone.org/event/impact-night-2024-09-25/
LOCATION:Cornerstone Christian Center\, East Location\, 450 S. State Road 7\, Hollywood\, FL\, 33023\, United States
END:VEVENT
BEGIN:VEVENT
DTSTART;TZID=UTC:20240918T190000
DTEND;TZID=UTC:20240918T190000
DTSTAMP:20260424T120020
CREATED:20171011T232700Z
LAST-MODIFIED:20171011T232700Z
UID:3082-1726686000-1726686000@icornerstone.org
SUMMARY:Impact Night
DESCRIPTION:
URL:https://icornerstone.org/event/impact-night-2024-09-18/
LOCATION:Cornerstone Christian Center\, East Location\, 450 S. State Road 7\, Hollywood\, FL\, 33023\, United States
END:VEVENT
BEGIN:VEVENT
DTSTART;TZID=UTC:20240911T190000
DTEND;TZID=UTC:20240911T190000
DTSTAMP:20260424T120020
CREATED:20171011T232700Z
LAST-MODIFIED:20171011T232700Z
UID:3081-1726081200-1726081200@icornerstone.org
SUMMARY:Impact Night
DESCRIPTION:
URL:https://icornerstone.org/event/impact-night-2024-09-11/
LOCATION:Cornerstone Christian Center\, East Location\, 450 S. State Road 7\, Hollywood\, FL\, 33023\, United States
END:VEVENT
BEGIN:VEVENT
DTSTART;TZID=UTC:20240904T190000
DTEND;TZID=UTC:20240904T190000
DTSTAMP:20260424T120020
CREATED:20171011T232700Z
LAST-MODIFIED:20171011T232700Z
UID:3075-1725476400-1725476400@icornerstone.org
SUMMARY:Impact Night
DESCRIPTION:
URL:https://icornerstone.org/event/impact-night-2024-09-04/
LOCATION:Cornerstone Christian Center\, East Location\, 450 S. State Road 7\, Hollywood\, FL\, 33023\, United States
END:VEVENT
BEGIN:VEVENT
DTSTART;TZID=UTC:20240828T190000
DTEND;TZID=UTC:20240828T190000
DTSTAMP:20260424T120020
CREATED:20171011T232700Z
LAST-MODIFIED:20171011T232700Z
UID:3074-1724871600-1724871600@icornerstone.org
SUMMARY:Impact Night
DESCRIPTION:
URL:https://icornerstone.org/event/impact-night-2024-08-28/
LOCATION:Cornerstone Christian Center\, East Location\, 450 S. State Road 7\, Hollywood\, FL\, 33023\, United States
END:VEVENT
BEGIN:VEVENT
DTSTART;TZID=UTC:20240821T190000
DTEND;TZID=UTC:20240821T190000
DTSTAMP:20260424T120020
CREATED:20171011T232700Z
LAST-MODIFIED:20171011T232700Z
UID:3070-1724266800-1724266800@icornerstone.org
SUMMARY:Impact Night
DESCRIPTION:
URL:https://icornerstone.org/event/impact-night-2024-08-21/
LOCATION:Cornerstone Christian Center\, East Location\, 450 S. State Road 7\, Hollywood\, FL\, 33023\, United States
END:VEVENT
BEGIN:VEVENT
DTSTART;TZID=UTC:20240814T190000
DTEND;TZID=UTC:20240814T190000
DTSTAMP:20260424T120020
CREATED:20171011T232700Z
LAST-MODIFIED:20171011T232700Z
UID:3067-1723662000-1723662000@icornerstone.org
SUMMARY:Impact Night
DESCRIPTION:
URL:https://icornerstone.org/event/impact-night-2024-08-14/
LOCATION:Cornerstone Christian Center\, East Location\, 450 S. State Road 7\, Hollywood\, FL\, 33023\, United States
END:VEVENT
BEGIN:VEVENT
DTSTART;TZID=UTC:20240807T190000
DTEND;TZID=UTC:20240807T190000
DTSTAMP:20260424T120020
CREATED:20171011T232700Z
LAST-MODIFIED:20171011T232700Z
UID:3060-1723057200-1723057200@icornerstone.org
SUMMARY:Impact Night
DESCRIPTION:
URL:https://icornerstone.org/event/impact-night-2024-08-07/
LOCATION:Cornerstone Christian Center\, East Location\, 450 S. State Road 7\, Hollywood\, FL\, 33023\, United States
END:VEVENT
BEGIN:VEVENT
DTSTART;TZID=UTC:20240731T190000
DTEND;TZID=UTC:20240731T190000
DTSTAMP:20260424T120020
CREATED:20171011T232700Z
LAST-MODIFIED:20171011T232700Z
UID:3009-1722452400-1722452400@icornerstone.org
SUMMARY:Impact Night
DESCRIPTION:
URL:https://icornerstone.org/event/impact-night-2024-07-31/
LOCATION:Cornerstone Christian Center\, East Location\, 450 S. State Road 7\, Hollywood\, FL\, 33023\, United States
END:VEVENT
BEGIN:VEVENT
DTSTART;TZID=America/New_York:20240609T103000
DTEND;TZID=America/New_York:20240609T120000
DTSTAMP:20260424T120020
CREATED:20240504T131456Z
LAST-MODIFIED:20240504T131456Z
UID:3314-1717929000-1717934400@icornerstone.org
SUMMARY:Baccalaureate Service
DESCRIPTION:Cornerstone honors the graduating class of 2024 during our 10:30 AM Worship Service.
URL:https://icornerstone.org/event/baccalaureate-service/
LOCATION:FL
END:VEVENT
BEGIN:VEVENT
DTSTART;TZID=America/New_York:20240512T103000
DTEND;TZID=America/New_York:20240512T120000
DTSTAMP:20260424T120020
CREATED:20240504T115947Z
LAST-MODIFIED:20240504T115947Z
UID:3312-1715509800-1715515200@icornerstone.org
SUMMARY:Mother's Day Celebration
DESCRIPTION:Worship with us at Cornerstone on Mother’s Day. Join us as we honor all Mothers in attendance.
URL:https://icornerstone.org/event/mothers-day-celebration/
LOCATION:Cornerstone Christian Center\, East Location\, 450 S. State Road 7\, Hollywood\, FL\, 33023\, United States
END:VEVENT
BEGIN:VEVENT
DTSTART;TZID=America/New_York:20240511T090000
DTEND;TZID=America/New_York:20240511T130000
DTSTAMP:20260424T120020
CREATED:20240504T114540Z
LAST-MODIFIED:20240504T114540Z
UID:3309-1715418000-1715432400@icornerstone.org
SUMMARY:Water Baptism
DESCRIPTION:Get ready for Water Baptism! We have reached our registration capacity. If you are registered\, be sure to arrive on time.
URL:https://icornerstone.org/event/water-baptism/
LOCATION:Cornerstone Christian Center\, East Location\, 450 S. State Road 7\, Hollywood\, FL\, 33023\, United States
END:VEVENT
BEGIN:VEVENT
DTSTART;TZID=America/New_York:20240505T103000
DTEND;TZID=America/New_York:20240505T120000
DTSTAMP:20260424T120020
CREATED:20240504T114016Z
LAST-MODIFIED:20240504T114016Z
UID:3307-1714905000-1714910400@icornerstone.org
SUMMARY:Communion Sunday
DESCRIPTION:Join us for our Covenant Communion Sunday Service at 10:30 AM. Jesus said as often as we do this we remember His sacrifice for our sins.
URL:https://icornerstone.org/event/communion-sunday/
LOCATION:Cornerstone Christian Center\, East Location\, 450 S. State Road 7\, Hollywood\, FL\, 33023\, United States
END:VEVENT
BEGIN:VEVENT
DTSTART;TZID=UTC:20230531T190000
DTEND;TZID=UTC:20230531T190000
DTSTAMP:20260424T120020
CREATED:20171011T232700Z
LAST-MODIFIED:20171011T232700Z
UID:2682-1685559600-1685559600@icornerstone.org
SUMMARY:Impact Night
DESCRIPTION:
URL:https://icornerstone.org/event/impact-night-2023-05-31/
LOCATION:Cornerstone Christian Center\, East Location\, 450 S. State Road 7\, Hollywood\, FL\, 33023\, United States
END:VEVENT
BEGIN:VEVENT
DTSTART;TZID=UTC:20230524T190000
DTEND;TZID=UTC:20230524T190000
DTSTAMP:20260424T120020
CREATED:20171011T232700Z
LAST-MODIFIED:20171011T232700Z
UID:2681-1684954800-1684954800@icornerstone.org
SUMMARY:Impact Night
DESCRIPTION:
URL:https://icornerstone.org/event/impact-night-2023-05-24/
LOCATION:Cornerstone Christian Center\, East Location\, 450 S. State Road 7\, Hollywood\, FL\, 33023\, United States
END:VEVENT
BEGIN:VEVENT
DTSTART;TZID=UTC:20230517T190000
DTEND;TZID=UTC:20230517T190000
DTSTAMP:20260424T120020
CREATED:20171011T232700Z
LAST-MODIFIED:20171011T232700Z
UID:2680-1684350000-1684350000@icornerstone.org
SUMMARY:Impact Night
DESCRIPTION:
URL:https://icornerstone.org/event/impact-night-2023-05-17/
LOCATION:Cornerstone Christian Center\, East Location\, 450 S. State Road 7\, Hollywood\, FL\, 33023\, United States
END:VEVENT
BEGIN:VEVENT
DTSTART;TZID=UTC:20230510T190000
DTEND;TZID=UTC:20230510T190000
DTSTAMP:20260424T120020
CREATED:20171011T232700Z
LAST-MODIFIED:20171011T232700Z
UID:2678-1683745200-1683745200@icornerstone.org
SUMMARY:Impact Night
DESCRIPTION:
URL:https://icornerstone.org/event/impact-night-2023-05-10/
LOCATION:Cornerstone Christian Center\, East Location\, 450 S. State Road 7\, Hollywood\, FL\, 33023\, United States
END:VEVENT
BEGIN:VEVENT
DTSTART;TZID=UTC:20230503T190000
DTEND;TZID=UTC:20230503T190000
DTSTAMP:20260424T120020
CREATED:20171011T232700Z
LAST-MODIFIED:20171011T232700Z
UID:2676-1683140400-1683140400@icornerstone.org
SUMMARY:Impact Night
DESCRIPTION:
URL:https://icornerstone.org/event/impact-night-2023-05-03/
LOCATION:Cornerstone Christian Center\, East Location\, 450 S. State Road 7\, Hollywood\, FL\, 33023\, United States
END:VEVENT
BEGIN:VEVENT
DTSTART;TZID=UTC:20230426T190000
DTEND;TZID=UTC:20230426T190000
DTSTAMP:20260424T120020
CREATED:20171011T232700Z
LAST-MODIFIED:20171011T232700Z
UID:2675-1682535600-1682535600@icornerstone.org
SUMMARY:Impact Night
DESCRIPTION:
URL:https://icornerstone.org/event/impact-night-2023-04-26/
LOCATION:Cornerstone Christian Center\, East Location\, 450 S. State Road 7\, Hollywood\, FL\, 33023\, United States
END:VEVENT
BEGIN:VEVENT
DTSTART;TZID=UTC:20230419T190000
DTEND;TZID=UTC:20230419T190000
DTSTAMP:20260424T120020
CREATED:20171011T232700Z
LAST-MODIFIED:20171011T232700Z
UID:2674-1681930800-1681930800@icornerstone.org
SUMMARY:Impact Night
DESCRIPTION:
URL:https://icornerstone.org/event/impact-night-2023-04-19/
LOCATION:Cornerstone Christian Center\, East Location\, 450 S. State Road 7\, Hollywood\, FL\, 33023\, United States
END:VEVENT
BEGIN:VEVENT
DTSTART;TZID=UTC:20230412T190000
DTEND;TZID=UTC:20230412T190000
DTSTAMP:20260424T120020
CREATED:20171011T232700Z
LAST-MODIFIED:20171011T232700Z
UID:2672-1681326000-1681326000@icornerstone.org
SUMMARY:Impact Night
DESCRIPTION:
URL:https://icornerstone.org/event/impact-night-2023-04-12/
LOCATION:Cornerstone Christian Center\, East Location\, 450 S. State Road 7\, Hollywood\, FL\, 33023\, United States
END:VEVENT
BEGIN:VEVENT
DTSTART;TZID=UTC:20230405T190000
DTEND;TZID=UTC:20230405T190000
DTSTAMP:20260424T120020
CREATED:20171011T232700Z
LAST-MODIFIED:20171011T232700Z
UID:2670-1680721200-1680721200@icornerstone.org
SUMMARY:Impact Night
DESCRIPTION:
URL:https://icornerstone.org/event/impact-night-2023-04-05/
LOCATION:Cornerstone Christian Center\, East Location\, 450 S. State Road 7\, Hollywood\, FL\, 33023\, United States
END:VEVENT
BEGIN:VEVENT
DTSTART;TZID=UTC:20230329T190000
DTEND;TZID=UTC:20230329T190000
DTSTAMP:20260424T120020
CREATED:20171011T232700Z
LAST-MODIFIED:20171011T232700Z
UID:2669-1680116400-1680116400@icornerstone.org
SUMMARY:Impact Night
DESCRIPTION:
URL:https://icornerstone.org/event/impact-night-2023-03-29/
LOCATION:Cornerstone Christian Center\, East Location\, 450 S. State Road 7\, Hollywood\, FL\, 33023\, United States
END:VEVENT
BEGIN:VEVENT
DTSTART;TZID=UTC:20230322T190000
DTEND;TZID=UTC:20230322T190000
DTSTAMP:20260424T120020
CREATED:20171011T232700Z
LAST-MODIFIED:20171011T232700Z
UID:2668-1679511600-1679511600@icornerstone.org
SUMMARY:Impact Night
DESCRIPTION:
URL:https://icornerstone.org/event/impact-night-2023-03-22/
LOCATION:Cornerstone Christian Center\, East Location\, 450 S. State Road 7\, Hollywood\, FL\, 33023\, United States
END:VEVENT
BEGIN:VEVENT
DTSTART;TZID=UTC:20230315T190000
DTEND;TZID=UTC:20230315T190000
DTSTAMP:20260424T120020
CREATED:20171011T232700Z
LAST-MODIFIED:20171011T232700Z
UID:2665-1678906800-1678906800@icornerstone.org
SUMMARY:Impact Night
DESCRIPTION:
URL:https://icornerstone.org/event/impact-night-2023-03-15/
LOCATION:Cornerstone Christian Center\, East Location\, 450 S. State Road 7\, Hollywood\, FL\, 33023\, United States
END:VEVENT
BEGIN:VEVENT
DTSTART;TZID=UTC:20230308T190000
DTEND;TZID=UTC:20230308T190000
DTSTAMP:20260424T120020
CREATED:20171011T232700Z
LAST-MODIFIED:20171011T232700Z
UID:2664-1678302000-1678302000@icornerstone.org
SUMMARY:Impact Night
DESCRIPTION:
URL:https://icornerstone.org/event/impact-night-2023-03-08/
LOCATION:Cornerstone Christian Center\, East Location\, 450 S. State Road 7\, Hollywood\, FL\, 33023\, United States
END:VEVENT
BEGIN:VEVENT
DTSTART;TZID=UTC:20230301T190000
DTEND;TZID=UTC:20230301T190000
DTSTAMP:20260424T120020
CREATED:20171011T232700Z
LAST-MODIFIED:20171011T232700Z
UID:2662-1677697200-1677697200@icornerstone.org
SUMMARY:Impact Night
DESCRIPTION:
URL:https://icornerstone.org/event/impact-night-2023-03-01/
LOCATION:Cornerstone Christian Center\, East Location\, 450 S. State Road 7\, Hollywood\, FL\, 33023\, United States
END:VEVENT
BEGIN:VEVENT
DTSTART;TZID=UTC:20230222T190000
DTEND;TZID=UTC:20230222T190000
DTSTAMP:20260424T120020
CREATED:20171011T232700Z
LAST-MODIFIED:20171011T232700Z
UID:2657-1677092400-1677092400@icornerstone.org
SUMMARY:Impact Night
DESCRIPTION:
URL:https://icornerstone.org/event/impact-night-2023-02-22/
LOCATION:Cornerstone Christian Center\, East Location\, 450 S. State Road 7\, Hollywood\, FL\, 33023\, United States
END:VEVENT
END:VCALENDAR