BEGIN:VCALENDAR
VERSION:2.0
PRODID:-//Cornerstone Christian Center - ECPv6.15.17.1//NONSGML v1.0//EN
CALSCALE:GREGORIAN
METHOD:PUBLISH
X-WR-CALNAME:Cornerstone Christian Center
X-ORIGINAL-URL:https://icornerstone.org
X-WR-CALDESC:Events for Cornerstone Christian Center
REFRESH-INTERVAL;VALUE=DURATION:PT1H
X-Robots-Tag:noindex
X-PUBLISHED-TTL:PT1H
BEGIN:VTIMEZONE
TZID:UTC
BEGIN:STANDARD
TZOFFSETFROM:+0000
TZOFFSETTO:+0000
TZNAME:UTC
DTSTART:20160101T000000
END:STANDARD
END:VTIMEZONE
BEGIN:VEVENT
DTSTART;TZID=UTC:20180126T193000
DTEND;TZID=UTC:20180126T193000
DTSTAMP:20260425T091415
CREATED:20180110T003515Z
LAST-MODIFIED:20180110T003531Z
UID:1483-1516995000-1516995000@icornerstone.org
SUMMARY:Singles Night Out
DESCRIPTION:
URL:https://icornerstone.org/event/singles-night-out/
LOCATION:Cornerstone Christian Center\, East Location\, 450 S. State Road 7\, Hollywood\, FL\, 33023\, United States
END:VEVENT
BEGIN:VEVENT
DTSTART;VALUE=DATE:20171231
DTEND;VALUE=DATE:20180101
DTSTAMP:20260425T091415
CREATED:20171213T201032Z
LAST-MODIFIED:20171213T201032Z
UID:1453-1514678400-1514764799@icornerstone.org
SUMMARY:Bring in the New Year with Cornerstone Christian Center Church
DESCRIPTION:
URL:https://icornerstone.org/event/bring-in-the-new-year-with-cornerstone-christian-center-church/
LOCATION:FL
END:VEVENT
BEGIN:VEVENT
DTSTART;TZID=UTC:20171217T103000
DTEND;TZID=UTC:20171217T103000
DTSTAMP:20260425T091415
CREATED:20171213T200833Z
LAST-MODIFIED:20171213T202040Z
UID:1448-1513506600-1513506600@icornerstone.org
SUMMARY:Dr. Henry D. Daniels Birthday Celebration
DESCRIPTION:
URL:https://icornerstone.org/event/dr-henry-d-daniels-birthday-celebration/
LOCATION:FL
END:VEVENT
BEGIN:VEVENT
DTSTART;TZID=UTC:20171011T190000
DTEND;TZID=UTC:20171011T190000
DTSTAMP:20260425T091415
CREATED:20171011T232700Z
LAST-MODIFIED:20171011T235404Z
UID:1115-1507748400-1507748400@icornerstone.org
SUMMARY:Impact Night
DESCRIPTION:
URL:https://icornerstone.org/event/impact-night/
LOCATION:Cornerstone Christian Center\, East Location\, 450 S. State Road 7\, Hollywood\, FL\, 33023\, United States
END:VEVENT
BEGIN:VEVENT
DTSTART;VALUE=DATE:20170830
DTEND;VALUE=DATE:20170831
DTSTAMP:20260425T091415
CREATED:20170628T205652Z
LAST-MODIFIED:20170726T195405Z
UID:1011-1504051200-1504137599@icornerstone.org
SUMMARY:Time of Prayer
DESCRIPTION:Time of Fasting & Prayer \n  \n 
URL:https://icornerstone.org/event/time-of-fasting-prayer-2-2017-08-30/
LOCATION:FL
END:VEVENT
BEGIN:VEVENT
DTSTART;VALUE=DATE:20170827
DTEND;VALUE=DATE:20170828
DTSTAMP:20260425T091415
CREATED:20170726T200132Z
LAST-MODIFIED:20170726T200132Z
UID:1092-1503792000-1503878399@icornerstone.org
SUMMARY:Grand Anniversary Celebration
DESCRIPTION:
URL:https://icornerstone.org/event/grand-anniversary-celebration/
LOCATION:FL
END:VEVENT
BEGIN:VEVENT
DTSTART;VALUE=DATE:20170820
DTEND;VALUE=DATE:20170821
DTSTAMP:20260425T091415
CREATED:20170726T200042Z
LAST-MODIFIED:20170726T200042Z
UID:1090-1503187200-1503273599@icornerstone.org
SUMMARY:Family & Friends Day
DESCRIPTION:
URL:https://icornerstone.org/event/family-friends-day/
LOCATION:FL
END:VEVENT
BEGIN:VEVENT
DTSTART;VALUE=DATE:20170813
DTEND;VALUE=DATE:20170814
DTSTAMP:20260425T091415
CREATED:20170726T195930Z
LAST-MODIFIED:20170726T195930Z
UID:1088-1502582400-1502668799@icornerstone.org
SUMMARY:'Ole Time Sunday
DESCRIPTION:
URL:https://icornerstone.org/event/ole-time-sunday/
LOCATION:FL
END:VEVENT
BEGIN:VEVENT
DTSTART;VALUE=DATE:20170809
DTEND;VALUE=DATE:20170810
DTSTAMP:20260425T091415
CREATED:20170628T205652Z
LAST-MODIFIED:20170726T195558Z
UID:1005-1502236800-1502323199@icornerstone.org
SUMMARY:Time of Prayer
DESCRIPTION:Time of Fasting & Prayer
URL:https://icornerstone.org/event/time-of-fasting-prayer-2/
LOCATION:FL
END:VEVENT
BEGIN:VEVENT
DTSTART;VALUE=DATE:20170806
DTEND;VALUE=DATE:20170807
DTSTAMP:20260425T091415
CREATED:20170726T195805Z
LAST-MODIFIED:20170726T201027Z
UID:1084-1501977600-1502063999@icornerstone.org
SUMMARY:Member Appreciation Day
DESCRIPTION:
URL:https://icornerstone.org/event/member-appreciation-day/
LOCATION:FL
END:VEVENT
BEGIN:VEVENT
DTSTART;TZID=UTC:20170805T090000
DTEND;TZID=UTC:20170805T120000
DTSTAMP:20260425T091415
CREATED:20170706T234256Z
LAST-MODIFIED:20170706T234256Z
UID:1040-1501923600-1501934400@icornerstone.org
SUMMARY:W2W Ladies Fellowship
DESCRIPTION:
URL:https://icornerstone.org/event/w2w-ladies-fellowship/
LOCATION:Cornerstone Christian Center\, East Location\, 450 S. State Road 7\, Hollywood\, FL\, 33023\, United States
END:VEVENT
BEGIN:VEVENT
DTSTART;TZID=UTC:20170805T080000
DTEND;TZID=UTC:20170805T120000
DTSTAMP:20260425T091415
CREATED:20170706T233947Z
LAST-MODIFIED:20170706T233947Z
UID:1038-1501920000-1501934400@icornerstone.org
SUMMARY:CCC Youth Alive Field Trip
DESCRIPTION:
URL:https://icornerstone.org/event/ccc-youth-alive-field-trip/
LOCATION:FL
END:VEVENT
BEGIN:VEVENT
DTSTART;VALUE=DATE:20170802
DTEND;VALUE=DATE:20170803
DTSTAMP:20260425T091415
CREATED:20170628T205432Z
LAST-MODIFIED:20170726T195452Z
UID:1003-1501632000-1501718399@icornerstone.org
SUMMARY:Time of Prayer
DESCRIPTION:
URL:https://icornerstone.org/event/time-of-fasting-prayer/
LOCATION:FL
END:VEVENT
BEGIN:VEVENT
DTSTART;TZID=UTC:20170426T080000
DTEND;TZID=UTC:20170428T170000
DTSTAMP:20260425T091415
CREATED:20170424T014613Z
LAST-MODIFIED:20170424T014613Z
UID:697-1493193600-1493398800@icornerstone.org
SUMMARY:Test Events
DESCRIPTION:Hello this is test event.
URL:https://icornerstone.org/event/test-events/
LOCATION:FL
END:VEVENT
END:VCALENDAR