BEGIN:VCALENDAR
VERSION:2.0
PRODID:-//Cornerstone Christian Center - ECPv6.15.17.1//NONSGML v1.0//EN
CALSCALE:GREGORIAN
METHOD:PUBLISH
X-ORIGINAL-URL:https://icornerstone.org
X-WR-CALDESC:Events for Cornerstone Christian Center
REFRESH-INTERVAL;VALUE=DURATION:PT1H
X-Robots-Tag:noindex
X-PUBLISHED-TTL:PT1H
BEGIN:VTIMEZONE
TZID:UTC
BEGIN:STANDARD
TZOFFSETFROM:+0000
TZOFFSETTO:+0000
TZNAME:UTC
DTSTART:20230101T000000
END:STANDARD
END:VTIMEZONE
BEGIN:VEVENT
DTSTART;TZID=UTC:20240904T190000
DTEND;TZID=UTC:20240904T190000
DTSTAMP:20260425T105359
CREATED:20171011T232700Z
LAST-MODIFIED:20171011T232700Z
UID:3075-1725476400-1725476400@icornerstone.org
SUMMARY:Impact Night
DESCRIPTION:
URL:https://icornerstone.org/event/impact-night-2024-09-04/
LOCATION:Cornerstone Christian Center\, East Location\, 450 S. State Road 7\, Hollywood\, FL\, 33023\, United States
END:VEVENT
BEGIN:VEVENT
DTSTART;TZID=UTC:20240911T190000
DTEND;TZID=UTC:20240911T190000
DTSTAMP:20260425T105359
CREATED:20171011T232700Z
LAST-MODIFIED:20171011T232700Z
UID:3081-1726081200-1726081200@icornerstone.org
SUMMARY:Impact Night
DESCRIPTION:
URL:https://icornerstone.org/event/impact-night-2024-09-11/
LOCATION:Cornerstone Christian Center\, East Location\, 450 S. State Road 7\, Hollywood\, FL\, 33023\, United States
END:VEVENT
BEGIN:VEVENT
DTSTART;TZID=UTC:20240918T190000
DTEND;TZID=UTC:20240918T190000
DTSTAMP:20260425T105359
CREATED:20171011T232700Z
LAST-MODIFIED:20171011T232700Z
UID:3082-1726686000-1726686000@icornerstone.org
SUMMARY:Impact Night
DESCRIPTION:
URL:https://icornerstone.org/event/impact-night-2024-09-18/
LOCATION:Cornerstone Christian Center\, East Location\, 450 S. State Road 7\, Hollywood\, FL\, 33023\, United States
END:VEVENT
BEGIN:VEVENT
DTSTART;TZID=UTC:20240925T190000
DTEND;TZID=UTC:20240925T190000
DTSTAMP:20260425T105359
CREATED:20171011T232700Z
LAST-MODIFIED:20171011T232700Z
UID:3083-1727290800-1727290800@icornerstone.org
SUMMARY:Impact Night
DESCRIPTION:
URL:https://icornerstone.org/event/impact-night-2024-09-25/
LOCATION:Cornerstone Christian Center\, East Location\, 450 S. State Road 7\, Hollywood\, FL\, 33023\, United States
END:VEVENT
BEGIN:VEVENT
DTSTART;TZID=UTC:20241002T190000
DTEND;TZID=UTC:20241002T190000
DTSTAMP:20260425T105359
CREATED:20171011T232700Z
LAST-MODIFIED:20171011T232700Z
UID:3084-1727895600-1727895600@icornerstone.org
SUMMARY:Impact Night
DESCRIPTION:
URL:https://icornerstone.org/event/impact-night-2024-10-02/
LOCATION:Cornerstone Christian Center\, East Location\, 450 S. State Road 7\, Hollywood\, FL\, 33023\, United States
END:VEVENT
BEGIN:VEVENT
DTSTART;TZID=UTC:20241009T190000
DTEND;TZID=UTC:20241009T190000
DTSTAMP:20260425T105359
CREATED:20171011T232700Z
LAST-MODIFIED:20171011T232700Z
UID:3085-1728500400-1728500400@icornerstone.org
SUMMARY:Impact Night
DESCRIPTION:
URL:https://icornerstone.org/event/impact-night-2024-10-09/
LOCATION:Cornerstone Christian Center\, East Location\, 450 S. State Road 7\, Hollywood\, FL\, 33023\, United States
END:VEVENT
BEGIN:VEVENT
DTSTART;TZID=UTC:20241016T190000
DTEND;TZID=UTC:20241016T190000
DTSTAMP:20260425T105359
CREATED:20171011T232700Z
LAST-MODIFIED:20171011T232700Z
UID:3086-1729105200-1729105200@icornerstone.org
SUMMARY:Impact Night
DESCRIPTION:
URL:https://icornerstone.org/event/impact-night-2024-10-16/
LOCATION:Cornerstone Christian Center\, East Location\, 450 S. State Road 7\, Hollywood\, FL\, 33023\, United States
END:VEVENT
BEGIN:VEVENT
DTSTART;TZID=UTC:20241023T190000
DTEND;TZID=UTC:20241023T190000
DTSTAMP:20260425T105359
CREATED:20171011T232700Z
LAST-MODIFIED:20171011T232700Z
UID:3087-1729710000-1729710000@icornerstone.org
SUMMARY:Impact Night
DESCRIPTION:
URL:https://icornerstone.org/event/impact-night-2024-10-23/
LOCATION:Cornerstone Christian Center\, East Location\, 450 S. State Road 7\, Hollywood\, FL\, 33023\, United States
END:VEVENT
BEGIN:VEVENT
DTSTART;TZID=UTC:20241030T190000
DTEND;TZID=UTC:20241030T190000
DTSTAMP:20260425T105359
CREATED:20171011T232700Z
LAST-MODIFIED:20171011T232700Z
UID:3088-1730314800-1730314800@icornerstone.org
SUMMARY:Impact Night
DESCRIPTION:
URL:https://icornerstone.org/event/impact-night-2024-10-30/
LOCATION:Cornerstone Christian Center\, East Location\, 450 S. State Road 7\, Hollywood\, FL\, 33023\, United States
END:VEVENT
BEGIN:VEVENT
DTSTART;TZID=UTC:20241106T190000
DTEND;TZID=UTC:20241106T190000
DTSTAMP:20260425T105359
CREATED:20171011T232700Z
LAST-MODIFIED:20171011T232700Z
UID:3089-1730919600-1730919600@icornerstone.org
SUMMARY:Impact Night
DESCRIPTION:
URL:https://icornerstone.org/event/impact-night-2024-11-06/
LOCATION:Cornerstone Christian Center\, East Location\, 450 S. State Road 7\, Hollywood\, FL\, 33023\, United States
END:VEVENT
BEGIN:VEVENT
DTSTART;TZID=UTC:20241113T190000
DTEND;TZID=UTC:20241113T190000
DTSTAMP:20260425T105359
CREATED:20171011T232700Z
LAST-MODIFIED:20171011T232700Z
UID:3090-1731524400-1731524400@icornerstone.org
SUMMARY:Impact Night
DESCRIPTION:
URL:https://icornerstone.org/event/impact-night-2024-11-13/
LOCATION:Cornerstone Christian Center\, East Location\, 450 S. State Road 7\, Hollywood\, FL\, 33023\, United States
END:VEVENT
BEGIN:VEVENT
DTSTART;TZID=UTC:20241120T190000
DTEND;TZID=UTC:20241120T190000
DTSTAMP:20260425T105359
CREATED:20171011T232700Z
LAST-MODIFIED:20171011T232700Z
UID:3091-1732129200-1732129200@icornerstone.org
SUMMARY:Impact Night
DESCRIPTION:
URL:https://icornerstone.org/event/impact-night-2024-11-20/
LOCATION:Cornerstone Christian Center\, East Location\, 450 S. State Road 7\, Hollywood\, FL\, 33023\, United States
END:VEVENT
BEGIN:VEVENT
DTSTART;TZID=UTC:20241127T190000
DTEND;TZID=UTC:20241127T190000
DTSTAMP:20260425T105359
CREATED:20171011T232700Z
LAST-MODIFIED:20171011T232700Z
UID:3092-1732734000-1732734000@icornerstone.org
SUMMARY:Impact Night
DESCRIPTION:
URL:https://icornerstone.org/event/impact-night-2024-11-27/
LOCATION:Cornerstone Christian Center\, East Location\, 450 S. State Road 7\, Hollywood\, FL\, 33023\, United States
END:VEVENT
BEGIN:VEVENT
DTSTART;TZID=UTC:20241204T190000
DTEND;TZID=UTC:20241204T190000
DTSTAMP:20260425T105359
CREATED:20171011T232700Z
LAST-MODIFIED:20171011T232700Z
UID:3093-1733338800-1733338800@icornerstone.org
SUMMARY:Impact Night
DESCRIPTION:
URL:https://icornerstone.org/event/impact-night-2024-12-04/
LOCATION:Cornerstone Christian Center\, East Location\, 450 S. State Road 7\, Hollywood\, FL\, 33023\, United States
END:VEVENT
BEGIN:VEVENT
DTSTART;TZID=UTC:20241211T190000
DTEND;TZID=UTC:20241211T190000
DTSTAMP:20260425T105359
CREATED:20171011T232700Z
LAST-MODIFIED:20171011T232700Z
UID:3094-1733943600-1733943600@icornerstone.org
SUMMARY:Impact Night
DESCRIPTION:
URL:https://icornerstone.org/event/impact-night-2024-12-11/
LOCATION:Cornerstone Christian Center\, East Location\, 450 S. State Road 7\, Hollywood\, FL\, 33023\, United States
END:VEVENT
BEGIN:VEVENT
DTSTART;TZID=UTC:20241218T190000
DTEND;TZID=UTC:20241218T190000
DTSTAMP:20260425T105359
CREATED:20171011T232700Z
LAST-MODIFIED:20171011T232700Z
UID:3095-1734548400-1734548400@icornerstone.org
SUMMARY:Impact Night
DESCRIPTION:
URL:https://icornerstone.org/event/impact-night-2024-12-18/
LOCATION:Cornerstone Christian Center\, East Location\, 450 S. State Road 7\, Hollywood\, FL\, 33023\, United States
END:VEVENT
BEGIN:VEVENT
DTSTART;TZID=UTC:20241225T190000
DTEND;TZID=UTC:20241225T190000
DTSTAMP:20260425T105359
CREATED:20171011T232700Z
LAST-MODIFIED:20171011T232700Z
UID:3098-1735153200-1735153200@icornerstone.org
SUMMARY:Impact Night
DESCRIPTION:
URL:https://icornerstone.org/event/impact-night-2024-12-25/
LOCATION:Cornerstone Christian Center\, East Location\, 450 S. State Road 7\, Hollywood\, FL\, 33023\, United States
END:VEVENT
BEGIN:VEVENT
DTSTART;TZID=UTC:20250101T190000
DTEND;TZID=UTC:20250101T190000
DTSTAMP:20260425T105359
CREATED:20171011T232700Z
LAST-MODIFIED:20171011T232700Z
UID:3103-1735758000-1735758000@icornerstone.org
SUMMARY:Impact Night
DESCRIPTION:
URL:https://icornerstone.org/event/impact-night-2025-01-01/
LOCATION:Cornerstone Christian Center\, East Location\, 450 S. State Road 7\, Hollywood\, FL\, 33023\, United States
END:VEVENT
BEGIN:VEVENT
DTSTART;TZID=UTC:20250108T190000
DTEND;TZID=UTC:20250108T190000
DTSTAMP:20260425T105359
CREATED:20171011T232700Z
LAST-MODIFIED:20171011T232700Z
UID:3104-1736362800-1736362800@icornerstone.org
SUMMARY:Impact Night
DESCRIPTION:
URL:https://icornerstone.org/event/impact-night-2025-01-08/
LOCATION:Cornerstone Christian Center\, East Location\, 450 S. State Road 7\, Hollywood\, FL\, 33023\, United States
END:VEVENT
BEGIN:VEVENT
DTSTART;TZID=UTC:20250115T190000
DTEND;TZID=UTC:20250115T190000
DTSTAMP:20260425T105359
CREATED:20171011T232700Z
LAST-MODIFIED:20171011T232700Z
UID:3105-1736967600-1736967600@icornerstone.org
SUMMARY:Impact Night
DESCRIPTION:
URL:https://icornerstone.org/event/impact-night-2025-01-15/
LOCATION:Cornerstone Christian Center\, East Location\, 450 S. State Road 7\, Hollywood\, FL\, 33023\, United States
END:VEVENT
BEGIN:VEVENT
DTSTART;TZID=UTC:20250122T190000
DTEND;TZID=UTC:20250122T190000
DTSTAMP:20260425T105359
CREATED:20171011T232700Z
LAST-MODIFIED:20171011T232700Z
UID:3108-1737572400-1737572400@icornerstone.org
SUMMARY:Impact Night
DESCRIPTION:
URL:https://icornerstone.org/event/impact-night-2025-01-22/
LOCATION:Cornerstone Christian Center\, East Location\, 450 S. State Road 7\, Hollywood\, FL\, 33023\, United States
END:VEVENT
BEGIN:VEVENT
DTSTART;TZID=UTC:20250129T190000
DTEND;TZID=UTC:20250129T190000
DTSTAMP:20260425T105359
CREATED:20171011T232700Z
LAST-MODIFIED:20171011T232700Z
UID:3109-1738177200-1738177200@icornerstone.org
SUMMARY:Impact Night
DESCRIPTION:
URL:https://icornerstone.org/event/impact-night-2025-01-29/
LOCATION:Cornerstone Christian Center\, East Location\, 450 S. State Road 7\, Hollywood\, FL\, 33023\, United States
END:VEVENT
BEGIN:VEVENT
DTSTART;TZID=UTC:20250205T190000
DTEND;TZID=UTC:20250205T190000
DTSTAMP:20260425T105359
CREATED:20171011T232700Z
LAST-MODIFIED:20171011T232700Z
UID:3110-1738782000-1738782000@icornerstone.org
SUMMARY:Impact Night
DESCRIPTION:
URL:https://icornerstone.org/event/impact-night-2025-02-05/
LOCATION:Cornerstone Christian Center\, East Location\, 450 S. State Road 7\, Hollywood\, FL\, 33023\, United States
END:VEVENT
BEGIN:VEVENT
DTSTART;TZID=UTC:20250212T190000
DTEND;TZID=UTC:20250212T190000
DTSTAMP:20260425T105359
CREATED:20171011T232700Z
LAST-MODIFIED:20171011T232700Z
UID:3113-1739386800-1739386800@icornerstone.org
SUMMARY:Impact Night
DESCRIPTION:
URL:https://icornerstone.org/event/impact-night-2025-02-12/
LOCATION:Cornerstone Christian Center\, East Location\, 450 S. State Road 7\, Hollywood\, FL\, 33023\, United States
END:VEVENT
BEGIN:VEVENT
DTSTART;TZID=UTC:20250219T190000
DTEND;TZID=UTC:20250219T190000
DTSTAMP:20260425T105359
CREATED:20171011T232700Z
LAST-MODIFIED:20171011T232700Z
UID:3114-1739991600-1739991600@icornerstone.org
SUMMARY:Impact Night
DESCRIPTION:
URL:https://icornerstone.org/event/impact-night-2025-02-19/
LOCATION:Cornerstone Christian Center\, East Location\, 450 S. State Road 7\, Hollywood\, FL\, 33023\, United States
END:VEVENT
BEGIN:VEVENT
DTSTART;TZID=UTC:20250226T190000
DTEND;TZID=UTC:20250226T190000
DTSTAMP:20260425T105359
CREATED:20171011T232700Z
LAST-MODIFIED:20171011T232700Z
UID:3115-1740596400-1740596400@icornerstone.org
SUMMARY:Impact Night
DESCRIPTION:
URL:https://icornerstone.org/event/impact-night-2025-02-26/
LOCATION:Cornerstone Christian Center\, East Location\, 450 S. State Road 7\, Hollywood\, FL\, 33023\, United States
END:VEVENT
BEGIN:VEVENT
DTSTART;TZID=UTC:20250305T190000
DTEND;TZID=UTC:20250305T190000
DTSTAMP:20260425T105359
CREATED:20171011T232700Z
LAST-MODIFIED:20171011T232700Z
UID:3117-1741201200-1741201200@icornerstone.org
SUMMARY:Impact Night
DESCRIPTION:
URL:https://icornerstone.org/event/impact-night-2025-03-05/
LOCATION:Cornerstone Christian Center\, East Location\, 450 S. State Road 7\, Hollywood\, FL\, 33023\, United States
END:VEVENT
BEGIN:VEVENT
DTSTART;TZID=UTC:20250312T190000
DTEND;TZID=UTC:20250312T190000
DTSTAMP:20260425T105359
CREATED:20171011T232700Z
LAST-MODIFIED:20171011T232700Z
UID:3118-1741806000-1741806000@icornerstone.org
SUMMARY:Impact Night
DESCRIPTION:
URL:https://icornerstone.org/event/impact-night-2025-03-12/
LOCATION:Cornerstone Christian Center\, East Location\, 450 S. State Road 7\, Hollywood\, FL\, 33023\, United States
END:VEVENT
BEGIN:VEVENT
DTSTART;TZID=UTC:20250319T190000
DTEND;TZID=UTC:20250319T190000
DTSTAMP:20260425T105359
CREATED:20171011T232700Z
LAST-MODIFIED:20171011T232700Z
UID:3119-1742410800-1742410800@icornerstone.org
SUMMARY:Impact Night
DESCRIPTION:
URL:https://icornerstone.org/event/impact-night-2025-03-19/
LOCATION:Cornerstone Christian Center\, East Location\, 450 S. State Road 7\, Hollywood\, FL\, 33023\, United States
END:VEVENT
BEGIN:VEVENT
DTSTART;TZID=UTC:20250326T190000
DTEND;TZID=UTC:20250326T190000
DTSTAMP:20260425T105359
CREATED:20171011T232700Z
LAST-MODIFIED:20171011T232700Z
UID:3120-1743015600-1743015600@icornerstone.org
SUMMARY:Impact Night
DESCRIPTION:
URL:https://icornerstone.org/event/impact-night-2025-03-26/
LOCATION:Cornerstone Christian Center\, East Location\, 450 S. State Road 7\, Hollywood\, FL\, 33023\, United States
END:VEVENT
END:VCALENDAR