BEGIN:VCALENDAR
VERSION:2.0
PRODID:-//Cornerstone Christian Center - ECPv6.15.17.1//NONSGML v1.0//EN
CALSCALE:GREGORIAN
METHOD:PUBLISH
X-WR-CALNAME:Cornerstone Christian Center
X-ORIGINAL-URL:https://icornerstone.org
X-WR-CALDESC:Events for Cornerstone Christian Center
REFRESH-INTERVAL;VALUE=DURATION:PT1H
X-Robots-Tag:noindex
X-PUBLISHED-TTL:PT1H
BEGIN:VTIMEZONE
TZID:UTC
BEGIN:STANDARD
TZOFFSETFROM:+0000
TZOFFSETTO:+0000
TZNAME:UTC
DTSTART:20190101T000000
END:STANDARD
END:VTIMEZONE
BEGIN:VEVENT
DTSTART;TZID=UTC:20230208T190000
DTEND;TZID=UTC:20230208T190000
DTSTAMP:20260424T114340
CREATED:20171011T232700Z
LAST-MODIFIED:20171011T232700Z
UID:2651-1675882800-1675882800@icornerstone.org
SUMMARY:Impact Night
DESCRIPTION:
URL:https://icornerstone.org/event/impact-night-2023-02-08/
LOCATION:Cornerstone Christian Center\, East Location\, 450 S. State Road 7\, Hollywood\, FL\, 33023\, United States
END:VEVENT
BEGIN:VEVENT
DTSTART;TZID=UTC:20230201T190000
DTEND;TZID=UTC:20230201T190000
DTSTAMP:20260424T114340
CREATED:20171011T232700Z
LAST-MODIFIED:20171011T232700Z
UID:2650-1675278000-1675278000@icornerstone.org
SUMMARY:Impact Night
DESCRIPTION:
URL:https://icornerstone.org/event/impact-night-2023-02-01/
LOCATION:Cornerstone Christian Center\, East Location\, 450 S. State Road 7\, Hollywood\, FL\, 33023\, United States
END:VEVENT
BEGIN:VEVENT
DTSTART;TZID=UTC:20230125T190000
DTEND;TZID=UTC:20230125T190000
DTSTAMP:20260424T114340
CREATED:20171011T232700Z
LAST-MODIFIED:20171011T232700Z
UID:2649-1674673200-1674673200@icornerstone.org
SUMMARY:Impact Night
DESCRIPTION:
URL:https://icornerstone.org/event/impact-night-2023-01-25/
LOCATION:Cornerstone Christian Center\, East Location\, 450 S. State Road 7\, Hollywood\, FL\, 33023\, United States
END:VEVENT
BEGIN:VEVENT
DTSTART;TZID=UTC:20230118T190000
DTEND;TZID=UTC:20230118T190000
DTSTAMP:20260424T114340
CREATED:20171011T232700Z
LAST-MODIFIED:20171011T232700Z
UID:2648-1674068400-1674068400@icornerstone.org
SUMMARY:Impact Night
DESCRIPTION:
URL:https://icornerstone.org/event/impact-night-2023-01-18/
LOCATION:Cornerstone Christian Center\, East Location\, 450 S. State Road 7\, Hollywood\, FL\, 33023\, United States
END:VEVENT
BEGIN:VEVENT
DTSTART;TZID=UTC:20230111T190000
DTEND;TZID=UTC:20230111T190000
DTSTAMP:20260424T114340
CREATED:20171011T232700Z
LAST-MODIFIED:20171011T232700Z
UID:2647-1673463600-1673463600@icornerstone.org
SUMMARY:Impact Night
DESCRIPTION:
URL:https://icornerstone.org/event/impact-night-2023-01-11/
LOCATION:Cornerstone Christian Center\, East Location\, 450 S. State Road 7\, Hollywood\, FL\, 33023\, United States
END:VEVENT
BEGIN:VEVENT
DTSTART;TZID=UTC:20230104T190000
DTEND;TZID=UTC:20230104T190000
DTSTAMP:20260424T114340
CREATED:20171011T232700Z
LAST-MODIFIED:20171011T232700Z
UID:2646-1672858800-1672858800@icornerstone.org
SUMMARY:Impact Night
DESCRIPTION:
URL:https://icornerstone.org/event/impact-night-2023-01-04/
LOCATION:Cornerstone Christian Center\, East Location\, 450 S. State Road 7\, Hollywood\, FL\, 33023\, United States
END:VEVENT
BEGIN:VEVENT
DTSTART;TZID=UTC:20221228T190000
DTEND;TZID=UTC:20221228T190000
DTSTAMP:20260424T114340
CREATED:20171011T232700Z
LAST-MODIFIED:20171011T232700Z
UID:2645-1672254000-1672254000@icornerstone.org
SUMMARY:Impact Night
DESCRIPTION:
URL:https://icornerstone.org/event/impact-night-2022-12-28/
LOCATION:Cornerstone Christian Center\, East Location\, 450 S. State Road 7\, Hollywood\, FL\, 33023\, United States
END:VEVENT
BEGIN:VEVENT
DTSTART;TZID=UTC:20221221T190000
DTEND;TZID=UTC:20221221T190000
DTSTAMP:20260424T114340
CREATED:20171011T232700Z
LAST-MODIFIED:20171011T232700Z
UID:2644-1671649200-1671649200@icornerstone.org
SUMMARY:Impact Night
DESCRIPTION:
URL:https://icornerstone.org/event/impact-night-2022-12-21/
LOCATION:Cornerstone Christian Center\, East Location\, 450 S. State Road 7\, Hollywood\, FL\, 33023\, United States
END:VEVENT
BEGIN:VEVENT
DTSTART;TZID=UTC:20221214T190000
DTEND;TZID=UTC:20221214T190000
DTSTAMP:20260424T114340
CREATED:20171011T232700Z
LAST-MODIFIED:20171011T232700Z
UID:2643-1671044400-1671044400@icornerstone.org
SUMMARY:Impact Night
DESCRIPTION:
URL:https://icornerstone.org/event/impact-night-2022-12-14/
LOCATION:Cornerstone Christian Center\, East Location\, 450 S. State Road 7\, Hollywood\, FL\, 33023\, United States
END:VEVENT
BEGIN:VEVENT
DTSTART;TZID=UTC:20221207T190000
DTEND;TZID=UTC:20221207T190000
DTSTAMP:20260424T114340
CREATED:20171011T232700Z
LAST-MODIFIED:20171011T232700Z
UID:2642-1670439600-1670439600@icornerstone.org
SUMMARY:Impact Night
DESCRIPTION:
URL:https://icornerstone.org/event/impact-night-2022-12-07/
LOCATION:Cornerstone Christian Center\, East Location\, 450 S. State Road 7\, Hollywood\, FL\, 33023\, United States
END:VEVENT
BEGIN:VEVENT
DTSTART;TZID=UTC:20221130T190000
DTEND;TZID=UTC:20221130T190000
DTSTAMP:20260424T114340
CREATED:20171011T232700Z
LAST-MODIFIED:20171011T232700Z
UID:2641-1669834800-1669834800@icornerstone.org
SUMMARY:Impact Night
DESCRIPTION:
URL:https://icornerstone.org/event/impact-night-2022-11-30/
LOCATION:Cornerstone Christian Center\, East Location\, 450 S. State Road 7\, Hollywood\, FL\, 33023\, United States
END:VEVENT
BEGIN:VEVENT
DTSTART;TZID=UTC:20221123T190000
DTEND;TZID=UTC:20221123T190000
DTSTAMP:20260424T114340
CREATED:20171011T232700Z
LAST-MODIFIED:20171011T232700Z
UID:2640-1669230000-1669230000@icornerstone.org
SUMMARY:Impact Night
DESCRIPTION:
URL:https://icornerstone.org/event/impact-night-2022-11-23/
LOCATION:Cornerstone Christian Center\, East Location\, 450 S. State Road 7\, Hollywood\, FL\, 33023\, United States
END:VEVENT
BEGIN:VEVENT
DTSTART;TZID=UTC:20221116T190000
DTEND;TZID=UTC:20221116T190000
DTSTAMP:20260424T114340
CREATED:20171011T232700Z
LAST-MODIFIED:20171011T232700Z
UID:2639-1668625200-1668625200@icornerstone.org
SUMMARY:Impact Night
DESCRIPTION:
URL:https://icornerstone.org/event/impact-night-2022-11-16/
LOCATION:Cornerstone Christian Center\, East Location\, 450 S. State Road 7\, Hollywood\, FL\, 33023\, United States
END:VEVENT
BEGIN:VEVENT
DTSTART;TZID=UTC:20221109T190000
DTEND;TZID=UTC:20221109T190000
DTSTAMP:20260424T114340
CREATED:20171011T232700Z
LAST-MODIFIED:20171011T232700Z
UID:2638-1668020400-1668020400@icornerstone.org
SUMMARY:Impact Night
DESCRIPTION:
URL:https://icornerstone.org/event/impact-night-2022-11-09/
LOCATION:Cornerstone Christian Center\, East Location\, 450 S. State Road 7\, Hollywood\, FL\, 33023\, United States
END:VEVENT
BEGIN:VEVENT
DTSTART;TZID=UTC:20221102T190000
DTEND;TZID=UTC:20221102T190000
DTSTAMP:20260424T114340
CREATED:20171011T232700Z
LAST-MODIFIED:20171011T232700Z
UID:2636-1667415600-1667415600@icornerstone.org
SUMMARY:Impact Night
DESCRIPTION:
URL:https://icornerstone.org/event/impact-night-2022-11-02/
LOCATION:Cornerstone Christian Center\, East Location\, 450 S. State Road 7\, Hollywood\, FL\, 33023\, United States
END:VEVENT
BEGIN:VEVENT
DTSTART;TZID=UTC:20221026T190000
DTEND;TZID=UTC:20221026T190000
DTSTAMP:20260424T114340
CREATED:20171011T232700Z
LAST-MODIFIED:20171011T232700Z
UID:2635-1666810800-1666810800@icornerstone.org
SUMMARY:Impact Night
DESCRIPTION:
URL:https://icornerstone.org/event/impact-night-2022-10-26/
LOCATION:Cornerstone Christian Center\, East Location\, 450 S. State Road 7\, Hollywood\, FL\, 33023\, United States
END:VEVENT
BEGIN:VEVENT
DTSTART;TZID=UTC:20221019T190000
DTEND;TZID=UTC:20221019T190000
DTSTAMP:20260424T114340
CREATED:20171011T232700Z
LAST-MODIFIED:20171011T232700Z
UID:2634-1666206000-1666206000@icornerstone.org
SUMMARY:Impact Night
DESCRIPTION:
URL:https://icornerstone.org/event/impact-night-2022-10-19/
LOCATION:Cornerstone Christian Center\, East Location\, 450 S. State Road 7\, Hollywood\, FL\, 33023\, United States
END:VEVENT
BEGIN:VEVENT
DTSTART;TZID=UTC:20221012T190000
DTEND;TZID=UTC:20221012T190000
DTSTAMP:20260424T114340
CREATED:20171011T232700Z
LAST-MODIFIED:20171011T232700Z
UID:2633-1665601200-1665601200@icornerstone.org
SUMMARY:Impact Night
DESCRIPTION:
URL:https://icornerstone.org/event/impact-night-2022-10-12/
LOCATION:Cornerstone Christian Center\, East Location\, 450 S. State Road 7\, Hollywood\, FL\, 33023\, United States
END:VEVENT
BEGIN:VEVENT
DTSTART;TZID=UTC:20221005T190000
DTEND;TZID=UTC:20221005T190000
DTSTAMP:20260424T114340
CREATED:20171011T232700Z
LAST-MODIFIED:20171011T232700Z
UID:2627-1664996400-1664996400@icornerstone.org
SUMMARY:Impact Night
DESCRIPTION:
URL:https://icornerstone.org/event/impact-night-2022-10-05/
LOCATION:Cornerstone Christian Center\, East Location\, 450 S. State Road 7\, Hollywood\, FL\, 33023\, United States
END:VEVENT
BEGIN:VEVENT
DTSTART;TZID=UTC:20220928T190000
DTEND;TZID=UTC:20220928T190000
DTSTAMP:20260424T114340
CREATED:20171011T232700Z
LAST-MODIFIED:20171011T232700Z
UID:2626-1664391600-1664391600@icornerstone.org
SUMMARY:Impact Night
DESCRIPTION:
URL:https://icornerstone.org/event/impact-night-2022-09-28/
LOCATION:Cornerstone Christian Center\, East Location\, 450 S. State Road 7\, Hollywood\, FL\, 33023\, United States
END:VEVENT
BEGIN:VEVENT
DTSTART;TZID=UTC:20220921T190000
DTEND;TZID=UTC:20220921T190000
DTSTAMP:20260424T114340
CREATED:20171011T232700Z
LAST-MODIFIED:20171011T232700Z
UID:2625-1663786800-1663786800@icornerstone.org
SUMMARY:Impact Night
DESCRIPTION:
URL:https://icornerstone.org/event/impact-night-2022-09-21/
LOCATION:Cornerstone Christian Center\, East Location\, 450 S. State Road 7\, Hollywood\, FL\, 33023\, United States
END:VEVENT
BEGIN:VEVENT
DTSTART;TZID=UTC:20220914T190000
DTEND;TZID=UTC:20220914T190000
DTSTAMP:20260424T114340
CREATED:20171011T232700Z
LAST-MODIFIED:20171011T232700Z
UID:2624-1663182000-1663182000@icornerstone.org
SUMMARY:Impact Night
DESCRIPTION:
URL:https://icornerstone.org/event/impact-night-2022-09-14/
LOCATION:Cornerstone Christian Center\, East Location\, 450 S. State Road 7\, Hollywood\, FL\, 33023\, United States
END:VEVENT
BEGIN:VEVENT
DTSTART;TZID=UTC:20220907T190000
DTEND;TZID=UTC:20220907T190000
DTSTAMP:20260424T114340
CREATED:20171011T232700Z
LAST-MODIFIED:20171011T232700Z
UID:2622-1662577200-1662577200@icornerstone.org
SUMMARY:Impact Night
DESCRIPTION:
URL:https://icornerstone.org/event/impact-night-2022-09-07/
LOCATION:Cornerstone Christian Center\, East Location\, 450 S. State Road 7\, Hollywood\, FL\, 33023\, United States
END:VEVENT
BEGIN:VEVENT
DTSTART;TZID=UTC:20220831T190000
DTEND;TZID=UTC:20220831T190000
DTSTAMP:20260424T114340
CREATED:20171011T232700Z
LAST-MODIFIED:20171011T232700Z
UID:2620-1661972400-1661972400@icornerstone.org
SUMMARY:Impact Night
DESCRIPTION:
URL:https://icornerstone.org/event/impact-night-2022-08-31/
LOCATION:Cornerstone Christian Center\, East Location\, 450 S. State Road 7\, Hollywood\, FL\, 33023\, United States
END:VEVENT
BEGIN:VEVENT
DTSTART;TZID=UTC:20220824T190000
DTEND;TZID=UTC:20220824T190000
DTSTAMP:20260424T114340
CREATED:20171011T232700Z
LAST-MODIFIED:20171011T232700Z
UID:2610-1661367600-1661367600@icornerstone.org
SUMMARY:Impact Night
DESCRIPTION:
URL:https://icornerstone.org/event/impact-night-2022-08-24/
LOCATION:Cornerstone Christian Center\, East Location\, 450 S. State Road 7\, Hollywood\, FL\, 33023\, United States
END:VEVENT
BEGIN:VEVENT
DTSTART;TZID=UTC:20220817T190000
DTEND;TZID=UTC:20220817T190000
DTSTAMP:20260424T114340
CREATED:20171011T232700Z
LAST-MODIFIED:20171011T232700Z
UID:2590-1660762800-1660762800@icornerstone.org
SUMMARY:Impact Night
DESCRIPTION:
URL:https://icornerstone.org/event/impact-night-2022-08-17/
LOCATION:Cornerstone Christian Center\, East Location\, 450 S. State Road 7\, Hollywood\, FL\, 33023\, United States
END:VEVENT
BEGIN:VEVENT
DTSTART;TZID=UTC:20220810T190000
DTEND;TZID=UTC:20220810T190000
DTSTAMP:20260424T114340
CREATED:20171011T232700Z
LAST-MODIFIED:20171011T232700Z
UID:2532-1660158000-1660158000@icornerstone.org
SUMMARY:Impact Night
DESCRIPTION:
URL:https://icornerstone.org/event/impact-night-2022-08-10/
LOCATION:Cornerstone Christian Center\, East Location\, 450 S. State Road 7\, Hollywood\, FL\, 33023\, United States
END:VEVENT
BEGIN:VEVENT
DTSTART;TZID=UTC:20220803T190000
DTEND;TZID=UTC:20220803T190000
DTSTAMP:20260424T114340
CREATED:20171011T232700Z
LAST-MODIFIED:20171011T232700Z
UID:2447-1659553200-1659553200@icornerstone.org
SUMMARY:Impact Night
DESCRIPTION:
URL:https://icornerstone.org/event/impact-night-2022-08-03/
LOCATION:Cornerstone Christian Center\, East Location\, 450 S. State Road 7\, Hollywood\, FL\, 33023\, United States
END:VEVENT
BEGIN:VEVENT
DTSTART;TZID=UTC:20200830T103000
DTEND;TZID=UTC:20200830T113000
DTSTAMP:20260424T114340
CREATED:20200729T030627Z
LAST-MODIFIED:20200729T030627Z
UID:2067-1598783400-1598787000@icornerstone.org
SUMMARY:20th Anniversary Virtual Celebration
DESCRIPTION:Celebrate Cornerstone’s 20th Anniversary with us. We are celebrating 20 years of ministry. Join us online on our website or our Facebook page live Sunday August 30\, 2020 @ 10:30 AM.
URL:https://icornerstone.org/event/20th-anniversary-virtual-celebration/
LOCATION:FL
END:VEVENT
BEGIN:VEVENT
DTSTART;TZID=UTC:20200802T103000
DTEND;TZID=UTC:20200802T113000
DTSTAMP:20260424T114340
CREATED:20200729T030323Z
LAST-MODIFIED:20200729T030819Z
UID:2059-1596364200-1596367800@icornerstone.org
SUMMARY:Virtual Church Service Online
DESCRIPTION:We are meeting online with our Virtual Church Service. Join us on our website or our Facebook page\, live Sundays @ 10:30 AM. \nDuring the entire month of August\, we are celebrating Cornerstone’s 20th Anniversary with give-a-ways every Sunday. Don’t Miss It!
URL:https://icornerstone.org/event/virtual-church-service-online/
LOCATION:FL
END:VEVENT
END:VCALENDAR