BEGIN:VCALENDAR
VERSION:2.0
PRODID:-//Cornerstone Christian Center - ECPv6.15.17.1//NONSGML v1.0//EN
CALSCALE:GREGORIAN
METHOD:PUBLISH
X-WR-CALNAME:Cornerstone Christian Center
X-ORIGINAL-URL:https://icornerstone.org
X-WR-CALDESC:Events for Cornerstone Christian Center
REFRESH-INTERVAL;VALUE=DURATION:PT1H
X-Robots-Tag:noindex
X-PUBLISHED-TTL:PT1H
BEGIN:VTIMEZONE
TZID:UTC
BEGIN:STANDARD
TZOFFSETFROM:+0000
TZOFFSETTO:+0000
TZNAME:UTC
DTSTART:20240101T000000
END:STANDARD
END:VTIMEZONE
BEGIN:VEVENT
DTSTART;TZID=UTC:20260422T190000
DTEND;TZID=UTC:20260422T190000
DTSTAMP:20260423T185314
CREATED:20171011T232700Z
LAST-MODIFIED:20171011T232700Z
UID:3304-1776884400-1776884400@icornerstone.org
SUMMARY:Impact Night
DESCRIPTION:
URL:https://icornerstone.org/event/impact-night-2026-04-22/
LOCATION:Cornerstone Christian Center\, East Location\, 450 S. State Road 7\, Hollywood\, FL\, 33023\, United States
END:VEVENT
BEGIN:VEVENT
DTSTART;TZID=UTC:20260415T190000
DTEND;TZID=UTC:20260415T190000
DTSTAMP:20260423T185314
CREATED:20171011T232700Z
LAST-MODIFIED:20171011T232700Z
UID:3300-1776279600-1776279600@icornerstone.org
SUMMARY:Impact Night
DESCRIPTION:
URL:https://icornerstone.org/event/impact-night-2026-04-15/
LOCATION:Cornerstone Christian Center\, East Location\, 450 S. State Road 7\, Hollywood\, FL\, 33023\, United States
END:VEVENT
BEGIN:VEVENT
DTSTART;TZID=UTC:20260408T190000
DTEND;TZID=UTC:20260408T190000
DTSTAMP:20260423T185314
CREATED:20171011T232700Z
LAST-MODIFIED:20171011T232700Z
UID:3299-1775674800-1775674800@icornerstone.org
SUMMARY:Impact Night
DESCRIPTION:
URL:https://icornerstone.org/event/impact-night-2026-04-08/
LOCATION:Cornerstone Christian Center\, East Location\, 450 S. State Road 7\, Hollywood\, FL\, 33023\, United States
END:VEVENT
BEGIN:VEVENT
DTSTART;TZID=UTC:20260401T190000
DTEND;TZID=UTC:20260401T190000
DTSTAMP:20260423T185314
CREATED:20171011T232700Z
LAST-MODIFIED:20171011T232700Z
UID:3293-1775070000-1775070000@icornerstone.org
SUMMARY:Impact Night
DESCRIPTION:
URL:https://icornerstone.org/event/impact-night-2026-04-01/
LOCATION:Cornerstone Christian Center\, East Location\, 450 S. State Road 7\, Hollywood\, FL\, 33023\, United States
END:VEVENT
BEGIN:VEVENT
DTSTART;TZID=UTC:20260325T190000
DTEND;TZID=UTC:20260325T190000
DTSTAMP:20260423T185314
CREATED:20171011T232700Z
LAST-MODIFIED:20171011T232700Z
UID:3292-1774465200-1774465200@icornerstone.org
SUMMARY:Impact Night
DESCRIPTION:
URL:https://icornerstone.org/event/impact-night-2026-03-25/
LOCATION:Cornerstone Christian Center\, East Location\, 450 S. State Road 7\, Hollywood\, FL\, 33023\, United States
END:VEVENT
BEGIN:VEVENT
DTSTART;TZID=UTC:20260318T190000
DTEND;TZID=UTC:20260318T190000
DTSTAMP:20260423T185314
CREATED:20171011T232700Z
LAST-MODIFIED:20171011T232700Z
UID:3291-1773860400-1773860400@icornerstone.org
SUMMARY:Impact Night
DESCRIPTION:
URL:https://icornerstone.org/event/impact-night-2026-03-18/
LOCATION:Cornerstone Christian Center\, East Location\, 450 S. State Road 7\, Hollywood\, FL\, 33023\, United States
END:VEVENT
BEGIN:VEVENT
DTSTART;TZID=UTC:20260311T190000
DTEND;TZID=UTC:20260311T190000
DTSTAMP:20260423T185314
CREATED:20171011T232700Z
LAST-MODIFIED:20171011T232700Z
UID:3290-1773255600-1773255600@icornerstone.org
SUMMARY:Impact Night
DESCRIPTION:
URL:https://icornerstone.org/event/impact-night-2026-03-11/
LOCATION:Cornerstone Christian Center\, East Location\, 450 S. State Road 7\, Hollywood\, FL\, 33023\, United States
END:VEVENT
BEGIN:VEVENT
DTSTART;TZID=UTC:20260304T190000
DTEND;TZID=UTC:20260304T190000
DTSTAMP:20260423T185314
CREATED:20171011T232700Z
LAST-MODIFIED:20171011T232700Z
UID:3289-1772650800-1772650800@icornerstone.org
SUMMARY:Impact Night
DESCRIPTION:
URL:https://icornerstone.org/event/impact-night-2026-03-04/
LOCATION:Cornerstone Christian Center\, East Location\, 450 S. State Road 7\, Hollywood\, FL\, 33023\, United States
END:VEVENT
BEGIN:VEVENT
DTSTART;TZID=UTC:20260225T190000
DTEND;TZID=UTC:20260225T190000
DTSTAMP:20260423T185314
CREATED:20171011T232700Z
LAST-MODIFIED:20171011T232700Z
UID:3288-1772046000-1772046000@icornerstone.org
SUMMARY:Impact Night
DESCRIPTION:
URL:https://icornerstone.org/event/impact-night-2026-02-25/
LOCATION:Cornerstone Christian Center\, East Location\, 450 S. State Road 7\, Hollywood\, FL\, 33023\, United States
END:VEVENT
BEGIN:VEVENT
DTSTART;TZID=UTC:20260218T190000
DTEND;TZID=UTC:20260218T190000
DTSTAMP:20260423T185314
CREATED:20171011T232700Z
LAST-MODIFIED:20171011T232700Z
UID:3287-1771441200-1771441200@icornerstone.org
SUMMARY:Impact Night
DESCRIPTION:
URL:https://icornerstone.org/event/impact-night-2026-02-18/
LOCATION:Cornerstone Christian Center\, East Location\, 450 S. State Road 7\, Hollywood\, FL\, 33023\, United States
END:VEVENT
BEGIN:VEVENT
DTSTART;TZID=UTC:20260211T190000
DTEND;TZID=UTC:20260211T190000
DTSTAMP:20260423T185314
CREATED:20171011T232700Z
LAST-MODIFIED:20171011T232700Z
UID:3284-1770836400-1770836400@icornerstone.org
SUMMARY:Impact Night
DESCRIPTION:
URL:https://icornerstone.org/event/impact-night-2026-02-11/
LOCATION:Cornerstone Christian Center\, East Location\, 450 S. State Road 7\, Hollywood\, FL\, 33023\, United States
END:VEVENT
BEGIN:VEVENT
DTSTART;TZID=UTC:20260204T190000
DTEND;TZID=UTC:20260204T190000
DTSTAMP:20260423T185314
CREATED:20171011T232700Z
LAST-MODIFIED:20171011T232700Z
UID:3283-1770231600-1770231600@icornerstone.org
SUMMARY:Impact Night
DESCRIPTION:
URL:https://icornerstone.org/event/impact-night-2026-02-04/
LOCATION:Cornerstone Christian Center\, East Location\, 450 S. State Road 7\, Hollywood\, FL\, 33023\, United States
END:VEVENT
BEGIN:VEVENT
DTSTART;TZID=UTC:20260128T190000
DTEND;TZID=UTC:20260128T190000
DTSTAMP:20260423T185314
CREATED:20171011T232700Z
LAST-MODIFIED:20171011T232700Z
UID:3282-1769626800-1769626800@icornerstone.org
SUMMARY:Impact Night
DESCRIPTION:
URL:https://icornerstone.org/event/impact-night-2026-01-28/
LOCATION:Cornerstone Christian Center\, East Location\, 450 S. State Road 7\, Hollywood\, FL\, 33023\, United States
END:VEVENT
BEGIN:VEVENT
DTSTART;TZID=UTC:20260121T190000
DTEND;TZID=UTC:20260121T190000
DTSTAMP:20260423T185314
CREATED:20171011T232700Z
LAST-MODIFIED:20171011T232700Z
UID:3281-1769022000-1769022000@icornerstone.org
SUMMARY:Impact Night
DESCRIPTION:
URL:https://icornerstone.org/event/impact-night-2026-01-21/
LOCATION:Cornerstone Christian Center\, East Location\, 450 S. State Road 7\, Hollywood\, FL\, 33023\, United States
END:VEVENT
BEGIN:VEVENT
DTSTART;TZID=UTC:20260114T190000
DTEND;TZID=UTC:20260114T190000
DTSTAMP:20260423T185314
CREATED:20171011T232700Z
LAST-MODIFIED:20171011T232700Z
UID:3280-1768417200-1768417200@icornerstone.org
SUMMARY:Impact Night
DESCRIPTION:
URL:https://icornerstone.org/event/impact-night-2026-01-14/
LOCATION:Cornerstone Christian Center\, East Location\, 450 S. State Road 7\, Hollywood\, FL\, 33023\, United States
END:VEVENT
BEGIN:VEVENT
DTSTART;TZID=UTC:20260107T190000
DTEND;TZID=UTC:20260107T190000
DTSTAMP:20260423T185314
CREATED:20171011T232700Z
LAST-MODIFIED:20171011T232700Z
UID:3279-1767812400-1767812400@icornerstone.org
SUMMARY:Impact Night
DESCRIPTION:
URL:https://icornerstone.org/event/impact-night-2026-01-07/
LOCATION:Cornerstone Christian Center\, East Location\, 450 S. State Road 7\, Hollywood\, FL\, 33023\, United States
END:VEVENT
BEGIN:VEVENT
DTSTART;TZID=UTC:20251231T190000
DTEND;TZID=UTC:20251231T190000
DTSTAMP:20260423T185314
CREATED:20171011T232700Z
LAST-MODIFIED:20171011T232700Z
UID:3278-1767207600-1767207600@icornerstone.org
SUMMARY:Impact Night
DESCRIPTION:
URL:https://icornerstone.org/event/impact-night-2025-12-31/
LOCATION:Cornerstone Christian Center\, East Location\, 450 S. State Road 7\, Hollywood\, FL\, 33023\, United States
END:VEVENT
BEGIN:VEVENT
DTSTART;TZID=UTC:20251224T190000
DTEND;TZID=UTC:20251224T190000
DTSTAMP:20260423T185314
CREATED:20171011T232700Z
LAST-MODIFIED:20171011T232700Z
UID:3276-1766602800-1766602800@icornerstone.org
SUMMARY:Impact Night
DESCRIPTION:
URL:https://icornerstone.org/event/impact-night-2025-12-24/
LOCATION:Cornerstone Christian Center\, East Location\, 450 S. State Road 7\, Hollywood\, FL\, 33023\, United States
END:VEVENT
BEGIN:VEVENT
DTSTART;TZID=UTC:20251217T190000
DTEND;TZID=UTC:20251217T190000
DTSTAMP:20260423T185314
CREATED:20171011T232700Z
LAST-MODIFIED:20171011T232700Z
UID:3275-1765998000-1765998000@icornerstone.org
SUMMARY:Impact Night
DESCRIPTION:
URL:https://icornerstone.org/event/impact-night-2025-12-17/
LOCATION:Cornerstone Christian Center\, East Location\, 450 S. State Road 7\, Hollywood\, FL\, 33023\, United States
END:VEVENT
BEGIN:VEVENT
DTSTART;TZID=UTC:20251210T190000
DTEND;TZID=UTC:20251210T190000
DTSTAMP:20260423T185314
CREATED:20171011T232700Z
LAST-MODIFIED:20171011T232700Z
UID:3274-1765393200-1765393200@icornerstone.org
SUMMARY:Impact Night
DESCRIPTION:
URL:https://icornerstone.org/event/impact-night-2025-12-10/
LOCATION:Cornerstone Christian Center\, East Location\, 450 S. State Road 7\, Hollywood\, FL\, 33023\, United States
END:VEVENT
BEGIN:VEVENT
DTSTART;TZID=UTC:20251203T190000
DTEND;TZID=UTC:20251203T190000
DTSTAMP:20260423T185314
CREATED:20171011T232700Z
LAST-MODIFIED:20171011T232700Z
UID:3273-1764788400-1764788400@icornerstone.org
SUMMARY:Impact Night
DESCRIPTION:
URL:https://icornerstone.org/event/impact-night-2025-12-03/
LOCATION:Cornerstone Christian Center\, East Location\, 450 S. State Road 7\, Hollywood\, FL\, 33023\, United States
END:VEVENT
BEGIN:VEVENT
DTSTART;TZID=UTC:20251126T190000
DTEND;TZID=UTC:20251126T190000
DTSTAMP:20260423T185314
CREATED:20171011T232700Z
LAST-MODIFIED:20171011T232700Z
UID:3272-1764183600-1764183600@icornerstone.org
SUMMARY:Impact Night
DESCRIPTION:
URL:https://icornerstone.org/event/impact-night-2025-11-26/
LOCATION:Cornerstone Christian Center\, East Location\, 450 S. State Road 7\, Hollywood\, FL\, 33023\, United States
END:VEVENT
BEGIN:VEVENT
DTSTART;TZID=UTC:20251119T190000
DTEND;TZID=UTC:20251119T190000
DTSTAMP:20260423T185314
CREATED:20171011T232700Z
LAST-MODIFIED:20171011T232700Z
UID:3271-1763578800-1763578800@icornerstone.org
SUMMARY:Impact Night
DESCRIPTION:
URL:https://icornerstone.org/event/impact-night-2025-11-19/
LOCATION:Cornerstone Christian Center\, East Location\, 450 S. State Road 7\, Hollywood\, FL\, 33023\, United States
END:VEVENT
BEGIN:VEVENT
DTSTART;TZID=UTC:20251112T190000
DTEND;TZID=UTC:20251112T190000
DTSTAMP:20260423T185314
CREATED:20171011T232700Z
LAST-MODIFIED:20171011T232700Z
UID:3270-1762974000-1762974000@icornerstone.org
SUMMARY:Impact Night
DESCRIPTION:
URL:https://icornerstone.org/event/impact-night-2025-11-12/
LOCATION:Cornerstone Christian Center\, East Location\, 450 S. State Road 7\, Hollywood\, FL\, 33023\, United States
END:VEVENT
BEGIN:VEVENT
DTSTART;TZID=UTC:20251105T190000
DTEND;TZID=UTC:20251105T190000
DTSTAMP:20260423T185314
CREATED:20171011T232700Z
LAST-MODIFIED:20171011T232700Z
UID:3269-1762369200-1762369200@icornerstone.org
SUMMARY:Impact Night
DESCRIPTION:
URL:https://icornerstone.org/event/impact-night-2025-11-05/
LOCATION:Cornerstone Christian Center\, East Location\, 450 S. State Road 7\, Hollywood\, FL\, 33023\, United States
END:VEVENT
BEGIN:VEVENT
DTSTART;TZID=UTC:20251029T190000
DTEND;TZID=UTC:20251029T190000
DTSTAMP:20260423T185314
CREATED:20171011T232700Z
LAST-MODIFIED:20171011T232700Z
UID:3268-1761764400-1761764400@icornerstone.org
SUMMARY:Impact Night
DESCRIPTION:
URL:https://icornerstone.org/event/impact-night-2025-10-29/
LOCATION:Cornerstone Christian Center\, East Location\, 450 S. State Road 7\, Hollywood\, FL\, 33023\, United States
END:VEVENT
BEGIN:VEVENT
DTSTART;TZID=UTC:20251022T190000
DTEND;TZID=UTC:20251022T190000
DTSTAMP:20260423T185314
CREATED:20171011T232700Z
LAST-MODIFIED:20171011T232700Z
UID:3267-1761159600-1761159600@icornerstone.org
SUMMARY:Impact Night
DESCRIPTION:
URL:https://icornerstone.org/event/impact-night-2025-10-22/
LOCATION:Cornerstone Christian Center\, East Location\, 450 S. State Road 7\, Hollywood\, FL\, 33023\, United States
END:VEVENT
BEGIN:VEVENT
DTSTART;TZID=UTC:20251015T190000
DTEND;TZID=UTC:20251015T190000
DTSTAMP:20260423T185314
CREATED:20171011T232700Z
LAST-MODIFIED:20171011T232700Z
UID:3266-1760554800-1760554800@icornerstone.org
SUMMARY:Impact Night
DESCRIPTION:
URL:https://icornerstone.org/event/impact-night-2025-10-15/
LOCATION:Cornerstone Christian Center\, East Location\, 450 S. State Road 7\, Hollywood\, FL\, 33023\, United States
END:VEVENT
BEGIN:VEVENT
DTSTART;TZID=UTC:20251008T190000
DTEND;TZID=UTC:20251008T190000
DTSTAMP:20260423T185314
CREATED:20171011T232700Z
LAST-MODIFIED:20171011T232700Z
UID:3265-1759950000-1759950000@icornerstone.org
SUMMARY:Impact Night
DESCRIPTION:
URL:https://icornerstone.org/event/impact-night-2025-10-08/
LOCATION:Cornerstone Christian Center\, East Location\, 450 S. State Road 7\, Hollywood\, FL\, 33023\, United States
END:VEVENT
BEGIN:VEVENT
DTSTART;TZID=UTC:20251001T190000
DTEND;TZID=UTC:20251001T190000
DTSTAMP:20260423T185314
CREATED:20171011T232700Z
LAST-MODIFIED:20171011T232700Z
UID:3264-1759345200-1759345200@icornerstone.org
SUMMARY:Impact Night
DESCRIPTION:
URL:https://icornerstone.org/event/impact-night-2025-10-01/
LOCATION:Cornerstone Christian Center\, East Location\, 450 S. State Road 7\, Hollywood\, FL\, 33023\, United States
END:VEVENT
END:VCALENDAR